BEGIN:VCALENDAR
VERSION:2.0
PRODID:Events Booking
BEGIN:VEVENT
UID:69e8fd9600dbc
SUMMARY:Sudweyher Bahnhof
DESCRIPTION:
LOCATION:Raiffeisenstraße 11\, 28844 Weyhe\, Germany
DTSTART:20250706T140000Z
DTEND:20250706T160000Z
DTSTAMP:20250406T180038Z
ORGANIZER;CN=Sound of Weyhe:MAILTO:info@sound-of-weyhe.de
GEO:52.986752;8.883757
X-APPLE-STRUCTURED-LOCATION;VALUE=URI;X-ADDRESS=Raiffeisenstraße 11\, 2884
 4 Weyhe\, Germany;X-APPLE-RADIUS=72;X-TITLE=Sudweyher Bahnhof - Kunst und 
 Kultur am Gleis:52.986752;8.883757
END:VEVENT
END:VCALENDAR